BEGIN:VCALENDAR
VERSION:2.0
PRODID:-//SheSpace HTX - ECPv6.15.20//NONSGML v1.0//EN
CALSCALE:GREGORIAN
METHOD:PUBLISH
X-WR-CALNAME:SheSpace HTX
X-ORIGINAL-URL:https://shespacehtx.com
X-WR-CALDESC:Events for SheSpace HTX
REFRESH-INTERVAL;VALUE=DURATION:PT1H
X-Robots-Tag:noindex
X-PUBLISHED-TTL:PT1H
BEGIN:VTIMEZONE
TZID:America/Chicago
BEGIN:DAYLIGHT
TZOFFSETFROM:-0600
TZOFFSETTO:-0500
TZNAME:CDT
DTSTART:20200308T080000
END:DAYLIGHT
BEGIN:STANDARD
TZOFFSETFROM:-0500
TZOFFSETTO:-0600
TZNAME:CST
DTSTART:20201101T070000
END:STANDARD
BEGIN:DAYLIGHT
TZOFFSETFROM:-0600
TZOFFSETTO:-0500
TZNAME:CDT
DTSTART:20210314T080000
END:DAYLIGHT
BEGIN:STANDARD
TZOFFSETFROM:-0500
TZOFFSETTO:-0600
TZNAME:CST
DTSTART:20211107T070000
END:STANDARD
BEGIN:DAYLIGHT
TZOFFSETFROM:-0600
TZOFFSETTO:-0500
TZNAME:CDT
DTSTART:20220313T080000
END:DAYLIGHT
BEGIN:STANDARD
TZOFFSETFROM:-0500
TZOFFSETTO:-0600
TZNAME:CST
DTSTART:20221106T070000
END:STANDARD
END:VTIMEZONE
BEGIN:VEVENT
DTSTART;TZID=America/Chicago:20211109T103000
DTEND;TZID=America/Chicago:20211109T120000
DTSTAMP:20260423T074339
CREATED:20211022T150740Z
LAST-MODIFIED:20211022T150740Z
UID:10000282-1636453800-1636459200@shespacehtx.com
SUMMARY:Memory Enhancement Training Program Pt. 2
DESCRIPTION:Amazing Place is offering a FREE 4-week Memory Enhancement Training Program! Space is limited! \nDiscover the best evidence-based memory enhancing techniques and habits to boost your memory and protect against memory loss. \nClasses will be held virtually\, in collaboration with SheSpace/Amazing Place \nTuesdays\, November 2\, 9\, 16\, 30\n(No class on November 23)\n10:30am – Noon
URL:https://shespacehtx.com/event/memory-enhancement-training-program-pt-2/
LOCATION:TX
ATTACH;FMTTYPE=image/png:https://shespacehtx.com/wp-content/uploads/2021/10/Improve-Your-Memory-1.png
END:VEVENT
BEGIN:VEVENT
DTSTART;TZID=America/Chicago:20211109T170000
DTEND;TZID=America/Chicago:20211109T180000
DTSTAMP:20260423T074339
CREATED:20211005T212456Z
LAST-MODIFIED:20211019T202616Z
UID:10000279-1636477200-1636480800@shespacehtx.com
SUMMARY:Newcomers Club
DESCRIPTION:  \nThis time\, we will host this event in the RBG.
URL:https://shespacehtx.com/event/newcomers-club-2/
LOCATION:TX
END:VEVENT
END:VCALENDAR