BEGIN:VCALENDAR
VERSION:2.0
PRODID:-//SheSpace HTX - ECPv6.15.20//NONSGML v1.0//EN
CALSCALE:GREGORIAN
METHOD:PUBLISH
X-ORIGINAL-URL:https://shespacehtx.com
X-WR-CALDESC:Events for SheSpace HTX
REFRESH-INTERVAL;VALUE=DURATION:PT1H
X-Robots-Tag:noindex
X-PUBLISHED-TTL:PT1H
BEGIN:VTIMEZONE
TZID:America/Chicago
BEGIN:DAYLIGHT
TZOFFSETFROM:-0600
TZOFFSETTO:-0500
TZNAME:CDT
DTSTART:20200308T080000
END:DAYLIGHT
BEGIN:STANDARD
TZOFFSETFROM:-0500
TZOFFSETTO:-0600
TZNAME:CST
DTSTART:20201101T070000
END:STANDARD
BEGIN:DAYLIGHT
TZOFFSETFROM:-0600
TZOFFSETTO:-0500
TZNAME:CDT
DTSTART:20210314T080000
END:DAYLIGHT
BEGIN:STANDARD
TZOFFSETFROM:-0500
TZOFFSETTO:-0600
TZNAME:CST
DTSTART:20211107T070000
END:STANDARD
BEGIN:DAYLIGHT
TZOFFSETFROM:-0600
TZOFFSETTO:-0500
TZNAME:CDT
DTSTART:20220313T080000
END:DAYLIGHT
BEGIN:STANDARD
TZOFFSETFROM:-0500
TZOFFSETTO:-0600
TZNAME:CST
DTSTART:20221106T070000
END:STANDARD
END:VTIMEZONE
BEGIN:VEVENT
DTSTART;TZID=America/Chicago:20211116T103000
DTEND;TZID=America/Chicago:20211116T120000
DTSTAMP:20260423T073140
CREATED:20211022T151147Z
LAST-MODIFIED:20211022T151147Z
UID:10000283-1637058600-1637064000@shespacehtx.com
SUMMARY:Memory Enhancement Training Program Pt. 3
DESCRIPTION:Amazing Place is offering a FREE 4-week Memory Enhancement Training Program! Space is limited! \nDiscover the best evidence-based memory enhancing techniques and habits to boost your memory and protect against memory loss. \nClasses will be held virtually\, in collaboration with SheSpace/Amazing Place \nTuesdays\, November 2\, 9\, 16\, 30\n(No class on November 23)\n10:30am – Noon
URL:https://shespacehtx.com/event/memory-enhancement-training-program-pt-2-2/
LOCATION:TX
ATTACH;FMTTYPE=image/png:https://shespacehtx.com/wp-content/uploads/2021/10/Improve-Your-Memory-1.png
END:VEVENT
BEGIN:VEVENT
DTSTART;TZID=America/Chicago:20211116T170000
DTEND;TZID=America/Chicago:20211116T181500
DTSTAMP:20260423T073140
CREATED:20211022T152810Z
LAST-MODIFIED:20211115T184124Z
UID:10000285-1637082000-1637086500@shespacehtx.com
SUMMARY:Be Aware of Your Surroundings
DESCRIPTION:Be A Street Smart Woman: learn tips and tricks from a former Deputy Sheriff and SWAT team member\, Bridget Truxillo\, JD\, on how to heighten your awareness and feel more in control of your own safety.  Bridget will discuss aspects of personal safety\, situational awareness\, Houston stats and then finish with a visualization exercise. \nLaw enforcement officers who are overwhelmed and frustrated are able to leverage Bridget’s 30 years of wellness\, leadership\, law enforcement and legal training and experience for a blueprint on how to easily feel more comfort\, ease and support for increased balance and joy in life. Bridget is passionate about helping law enforcement officers discover their ability to find happiness on a daily basis\, regardless of the environment or circumstances surrounding them. Bridget is an attorney and former Deputy Sheriff (SWAT and undercover narcotics)\, and the founder and CEO of Protective Wellness. \nThis exclusive class was created by women and never shown to men.
URL:https://shespacehtx.com/event/be-aware-of-your-surroundings-2/
LOCATION:TX
ATTACH;FMTTYPE=image/png:https://shespacehtx.com/wp-content/uploads/2021/10/Be-aware-of-your-surroundings.png
END:VEVENT
END:VCALENDAR