BEGIN:VCALENDAR
VERSION:2.0
PRODID:-//SheSpace HTX - ECPv6.15.20//NONSGML v1.0//EN
CALSCALE:GREGORIAN
METHOD:PUBLISH
X-WR-CALNAME:SheSpace HTX
X-ORIGINAL-URL:https://shespacehtx.com
X-WR-CALDESC:Events for SheSpace HTX
REFRESH-INTERVAL;VALUE=DURATION:PT1H
X-Robots-Tag:noindex
X-PUBLISHED-TTL:PT1H
BEGIN:VTIMEZONE
TZID:America/Chicago
BEGIN:DAYLIGHT
TZOFFSETFROM:-0600
TZOFFSETTO:-0500
TZNAME:CDT
DTSTART:20220313T080000
END:DAYLIGHT
BEGIN:STANDARD
TZOFFSETFROM:-0500
TZOFFSETTO:-0600
TZNAME:CST
DTSTART:20221106T070000
END:STANDARD
BEGIN:DAYLIGHT
TZOFFSETFROM:-0600
TZOFFSETTO:-0500
TZNAME:CDT
DTSTART:20230312T080000
END:DAYLIGHT
BEGIN:STANDARD
TZOFFSETFROM:-0500
TZOFFSETTO:-0600
TZNAME:CST
DTSTART:20231105T070000
END:STANDARD
BEGIN:DAYLIGHT
TZOFFSETFROM:-0600
TZOFFSETTO:-0500
TZNAME:CDT
DTSTART:20240310T080000
END:DAYLIGHT
BEGIN:STANDARD
TZOFFSETFROM:-0500
TZOFFSETTO:-0600
TZNAME:CST
DTSTART:20241103T070000
END:STANDARD
END:VTIMEZONE
BEGIN:VEVENT
DTSTART;TZID=America/Chicago:20230308T180000
DTEND;TZID=America/Chicago:20230308T200000
DTSTAMP:20260425T063228
CREATED:20230221T184650Z
LAST-MODIFIED:20230221T184650Z
UID:10000376-1678298400-1678305600@shespacehtx.com
SUMMARY:International Women's Day Celebration
DESCRIPTION:CELEBRATING AMAZING WOMEN IN THE COMMUNITY! \nInternational Women’s Month is a special time of year at SheSpace. Where we commemorate the trailblazers before us and take action in the present for a better future. \nThis International Women’s Day\, we are showcasing women-led non-profit orgs and businesses that are uniquely impacting women and society -at -large. \nJoin us for a celebration and call-to-action to support the following organizations:\n– Urban Harvest\n– Girls on the Run\n– iWRITE\n– Mala Market\n– She is More than Enough\n– Asch Building\n– Project Piruw\n– A 2nd Cup \n  \n 
URL:https://shespacehtx.com/event/international-womens-day-celebration/
LOCATION:TX
ATTACH;FMTTYPE=image/png:https://shespacehtx.com/wp-content/uploads/2023/02/4.png
END:VEVENT
END:VCALENDAR