BEGIN:VCALENDAR
VERSION:2.0
PRODID:-//SheSpace HTX - ECPv6.15.20//NONSGML v1.0//EN
CALSCALE:GREGORIAN
METHOD:PUBLISH
X-WR-CALNAME:SheSpace HTX
X-ORIGINAL-URL:https://shespacehtx.com
X-WR-CALDESC:Events for SheSpace HTX
REFRESH-INTERVAL;VALUE=DURATION:PT1H
X-Robots-Tag:noindex
X-PUBLISHED-TTL:PT1H
BEGIN:VTIMEZONE
TZID:America/Chicago
BEGIN:DAYLIGHT
TZOFFSETFROM:-0600
TZOFFSETTO:-0500
TZNAME:CDT
DTSTART:20250309T080000
END:DAYLIGHT
BEGIN:STANDARD
TZOFFSETFROM:-0500
TZOFFSETTO:-0600
TZNAME:CST
DTSTART:20251102T070000
END:STANDARD
BEGIN:DAYLIGHT
TZOFFSETFROM:-0600
TZOFFSETTO:-0500
TZNAME:CDT
DTSTART:20260308T080000
END:DAYLIGHT
BEGIN:STANDARD
TZOFFSETFROM:-0500
TZOFFSETTO:-0600
TZNAME:CST
DTSTART:20261101T070000
END:STANDARD
BEGIN:DAYLIGHT
TZOFFSETFROM:-0600
TZOFFSETTO:-0500
TZNAME:CDT
DTSTART:20270314T080000
END:DAYLIGHT
BEGIN:STANDARD
TZOFFSETFROM:-0500
TZOFFSETTO:-0600
TZNAME:CST
DTSTART:20271107T070000
END:STANDARD
END:VTIMEZONE
BEGIN:VEVENT
DTSTART;TZID=America/Chicago:20260331T090000
DTEND;TZID=America/Chicago:20260331T160000
DTSTAMP:20260420T231845
CREATED:20260303T214716Z
LAST-MODIFIED:20260317T192136Z
UID:10000563-1774947600-1774972800@shespacehtx.com
SUMMARY:CoWork & Coffee Day
DESCRIPTION:If you’ve been curious about SheSpace\, this is your invitation.\n\nJoin us on March 31 for a special Cowork & Coffee Day as we close out Women’s Month surrounded by ambitious\, creative\, and supportive women. Whether you’re an entrepreneur\, remote worker\, freelancer\, or building your next big idea\, this is your chance to experience a full day inside our space.\n\nYou’ll enjoy:\n☕ Free coworking all day\n🥐 Artisanal coffee + fresh pastries\n🛍️ Pop-up shop featuring women-owned makers\n🤝 An energizing evening networking event\n\nCome for the productivity. Stay for the connections.\n\nSpaces are limited — and our last Coworking Day sold out quickly — so RSVP early to secure your spot.\nSpend the day working in an inspiring environment and see firsthand what makes the SheSpace community so special. We can’t wait to welcome you. 💛
URL:https://shespacehtx.com/event/cowork-coffee-day/
LOCATION:SheSpace\, 2799 Katy Freeway Suite 250\, Houston\, TX\, 77007
ATTACH;FMTTYPE=image/png:https://shespacehtx.com/wp-content/uploads/2026/03/2026-Cowork-and-Coffee-e1772816265981.png
END:VEVENT
BEGIN:VEVENT
DTSTART;TZID=America/Chicago:20260331T173000
DTEND;TZID=America/Chicago:20260331T193000
DTSTAMP:20260420T231845
CREATED:20260302T161706Z
LAST-MODIFIED:20260317T192047Z
UID:10000561-1774978200-1774985400@shespacehtx.com
SUMMARY:Your Colors\, Your Energy: Color Astrology with Courtnay Elias
DESCRIPTION:What if your personal colors could tell a story about your energy\, strengths\, and season of life? Join Courtnay Elias for an interactive session exploring color astrology and how color can influence mood\, confidence\, and self-expression. This playful yet insightful experience blends creativity and self-discovery; perfect for anyone curious about seeing themselves in a new light.
URL:https://shespacehtx.com/event/your-colors-your-energy-color-astrology-with-courtnay-elias/
LOCATION:SheSpace\, 2799 Katy Freeway Suite 250\, Houston\, TX\, 77007
ATTACH;FMTTYPE=image/jpeg:https://shespacehtx.com/wp-content/uploads/2026/03/Color-Astrology-e1772468198364.jpeg
END:VEVENT
END:VCALENDAR