BEGIN:VCALENDAR
VERSION:2.0
PRODID:-//SheSpace HTX - ECPv6.15.20//NONSGML v1.0//EN
CALSCALE:GREGORIAN
METHOD:PUBLISH
X-ORIGINAL-URL:https://shespacehtx.com
X-WR-CALDESC:Events for SheSpace HTX
REFRESH-INTERVAL;VALUE=DURATION:PT1H
X-Robots-Tag:noindex
X-PUBLISHED-TTL:PT1H
BEGIN:VTIMEZONE
TZID:America/Chicago
BEGIN:DAYLIGHT
TZOFFSETFROM:-0600
TZOFFSETTO:-0500
TZNAME:CDT
DTSTART:20250309T080000
END:DAYLIGHT
BEGIN:STANDARD
TZOFFSETFROM:-0500
TZOFFSETTO:-0600
TZNAME:CST
DTSTART:20251102T070000
END:STANDARD
BEGIN:DAYLIGHT
TZOFFSETFROM:-0600
TZOFFSETTO:-0500
TZNAME:CDT
DTSTART:20260308T080000
END:DAYLIGHT
BEGIN:STANDARD
TZOFFSETFROM:-0500
TZOFFSETTO:-0600
TZNAME:CST
DTSTART:20261101T070000
END:STANDARD
BEGIN:DAYLIGHT
TZOFFSETFROM:-0600
TZOFFSETTO:-0500
TZNAME:CDT
DTSTART:20270314T080000
END:DAYLIGHT
BEGIN:STANDARD
TZOFFSETFROM:-0500
TZOFFSETTO:-0600
TZNAME:CST
DTSTART:20271107T070000
END:STANDARD
END:VTIMEZONE
BEGIN:VEVENT
DTSTART;TZID=America/Chicago:20260514T120000
DTEND;TZID=America/Chicago:20260514T133000
DTSTAMP:20260421T182756
CREATED:20260421T164508Z
LAST-MODIFIED:20260421T164508Z
UID:10000569-1778760000-1778765400@shespacehtx.com
SUMMARY:Mind Matters: SheSpace Mental Health Symposium
DESCRIPTION:At SheSpace\, we’re creating space for conversations that truly matter. Join us for an afternoon of thoughtful\, expert-led talks exploring the connection between movement and resilience. Featuring insights from Fit Houston’s Kimberly Serrano-Cruz & Psychologist & Resilience Coach\, Dr. Kelley Watts\, this curated experience is designed to leave you feeling informed\, grounded\, and supported.
URL:https://shespacehtx.com/event/mind-matters-shespace-mental-health-symposium/
LOCATION:SheSpace\, 2799 Katy Freeway Suite 250\, Houston\, TX\, 77007
ATTACH;FMTTYPE=image/jpeg:https://shespacehtx.com/wp-content/uploads/2026/04/Mental-Health-Symposium-e1776789876491.jpeg
END:VEVENT
END:VCALENDAR