BEGIN:VCALENDAR
VERSION:2.0
PRODID:-//SheSpace HTX - ECPv6.15.20//NONSGML v1.0//EN
CALSCALE:GREGORIAN
METHOD:PUBLISH
X-ORIGINAL-URL:https://shespacehtx.com
X-WR-CALDESC:Events for SheSpace HTX
REFRESH-INTERVAL;VALUE=DURATION:PT1H
X-Robots-Tag:noindex
X-PUBLISHED-TTL:PT1H
BEGIN:VTIMEZONE
TZID:America/Chicago
BEGIN:DAYLIGHT
TZOFFSETFROM:-0600
TZOFFSETTO:-0500
TZNAME:CDT
DTSTART:20200308T080000
END:DAYLIGHT
BEGIN:STANDARD
TZOFFSETFROM:-0500
TZOFFSETTO:-0600
TZNAME:CST
DTSTART:20201101T070000
END:STANDARD
BEGIN:DAYLIGHT
TZOFFSETFROM:-0600
TZOFFSETTO:-0500
TZNAME:CDT
DTSTART:20210314T080000
END:DAYLIGHT
BEGIN:STANDARD
TZOFFSETFROM:-0500
TZOFFSETTO:-0600
TZNAME:CST
DTSTART:20211107T070000
END:STANDARD
BEGIN:DAYLIGHT
TZOFFSETFROM:-0600
TZOFFSETTO:-0500
TZNAME:CDT
DTSTART:20220313T080000
END:DAYLIGHT
BEGIN:STANDARD
TZOFFSETFROM:-0500
TZOFFSETTO:-0600
TZNAME:CST
DTSTART:20221106T070000
END:STANDARD
END:VTIMEZONE
BEGIN:VEVENT
DTSTART;TZID=America/Chicago:20210406T163000
DTEND;TZID=America/Chicago:20210406T180000
DTSTAMP:20260424T034257
CREATED:20210317T154334Z
LAST-MODIFIED:20210330T161528Z
UID:10000245-1617726600-1617732000@shespacehtx.com
SUMMARY:How to look your Social Media Best by Kim Roxie and Britney Winters
DESCRIPTION:Don’t miss part II of our Taking Control of your Social Media Plan: Get Social Series. You will hear from the founder of LAMIK Beauty\, Kim Roxie and the founder of Upgrade Boutique\, Britney Winters. These two inspiring women will share their business-building stories as well as tips and tricks on how to look your social media best. \n4:30pm – Cocktails and Convos\n5:00pm – Speakers start
URL:https://shespacehtx.com/event/how-to-look-your-social-media-best-by-kim-roxie-and-britney-winters/
LOCATION:TX
ATTACH;FMTTYPE=image/png:https://shespacehtx.com/wp-content/uploads/2021/03/Kim-Roxie-and-Britney-Winters_Social-Series_FB-1.png
END:VEVENT
BEGIN:VEVENT
DTSTART;TZID=America/Chicago:20210407T120000
DTEND;TZID=America/Chicago:20210407T124500
DTSTAMP:20260424T034257
CREATED:20210311T212643Z
LAST-MODIFIED:20210311T214125Z
UID:10000230-1617796800-1617799500@shespacehtx.com
SUMMARY:Yin Yoga with Lucia H.
DESCRIPTION:Are you craving a slower\, intentional\, meditative practice? Our yin classes consist of passively-held seated and supine positions held for 3-5 minutes. Yin allows you to turn inward\, tune into the physical sensations of your body\, and teaches you how to breathe through challenges and discomfort. Yin is the perfect pause in the midst of a busy day. \nPlease bring your own yoga mat. If you don’t have one\, we have sanitized mats available. \nMembers can register for this class by logging in to their account. Non-Members can register for this event by clicking the link below.
URL:https://shespacehtx.com/event/yin-yoga-with-lucia-h-5/2021-04-07/
LOCATION:TX
ATTACH;FMTTYPE=image/png:https://shespacehtx.com/wp-content/uploads/2021/02/Yin-Yoga-with-Lucia.png
END:VEVENT
BEGIN:VEVENT
DTSTART;TZID=America/Chicago:20210413T163000
DTEND;TZID=America/Chicago:20210413T180000
DTSTAMP:20260424T034257
CREATED:20210305T153235Z
LAST-MODIFIED:20210330T161407Z
UID:10000228-1618331400-1618336800@shespacehtx.com
SUMMARY:Master the Art of Perfect Photos on Social Media by Anabelle Roman
DESCRIPTION:Learn all the tips and tricks to master the art of taking the perfect photos for your social media efforts.  From the technical\, social media platforms\, and content style perspective. \n4:30pm – Convos and Cocktails\n5:00pm – Speaker starts \nLearn more about Anabelle:\nAnabelle is one of the founders of Karana Audiovisual Services and serves as the Chief Marketing Officer (CMO)\, bringing home many success stories of customer loyalty\, partnerships\, and branding. She also has the responsibility of all the digital and traditional marketing efforts\, social media\, Website\, Advertising\, Project Management\, and branding awareness.  Like many other small businesses\, with a superwoman in charge wearing many hats\, she also serves as our creative producer on video\, virtual and physical events.  Received her bachelor’s in Communication\, Marketing\, and Advertising and her MBA in International Marketing from The University of Sacred Heart (Universidad del Sagrado Corazón) in Puerto Rico.
URL:https://shespacehtx.com/event/sheeducates-master-the-art-of-perfect-photos-by-anabelle-roman/
LOCATION:TX
ATTACH;FMTTYPE=image/png:https://shespacehtx.com/wp-content/uploads/2021/03/SheEducates_-Anabelle-Roman-1.png
END:VEVENT
BEGIN:VEVENT
DTSTART;TZID=America/Chicago:20210414T120000
DTEND;TZID=America/Chicago:20210414T124500
DTSTAMP:20260424T034257
CREATED:20210311T212817Z
LAST-MODIFIED:20210311T213919Z
UID:10000237-1618401600-1618404300@shespacehtx.com
SUMMARY:Flow Yoga with Lucia H.
DESCRIPTION:Get out of your head and into your body by consciously connecting breath and movement. These classes are meant to dynamically lead you through a series of postures to build strength and flexibility while promoting a sense of ease and calm for body\, mind\, and spirit. \nPlease bring your own yoga mat. If you don’t have one\, we have sanitized mats available. \nMembers can register for this class by logging in to their account. Non-Members can register for this event by clicking the link below.
URL:https://shespacehtx.com/event/flow-yoga-with-lucia-h-6/2021-04-14/
LOCATION:TX
ATTACH;FMTTYPE=image/png:https://shespacehtx.com/wp-content/uploads/2021/02/Flow-Yoga-with-Lucia.png
END:VEVENT
BEGIN:VEVENT
DTSTART;TZID=America/Chicago:20210420T120000
DTEND;TZID=America/Chicago:20210420T130000
DTSTAMP:20260424T034257
CREATED:20210223T203248Z
LAST-MODIFIED:20210330T161911Z
UID:10000222-1618920000-1618923600@shespacehtx.com
SUMMARY:Work & Life Balance and Integration by Gabriela Gerhart
DESCRIPTION:As the role of a mother is evolving and changing over the last few decades\, many questions and issues are coming up. Join us for a presentation and discussion on how to do it all and not lose yourself in the process. \nLearn more about Gabriela:\nGabriela Gerhart is the founder of the Motherhood Center. She established this heaven for mothers in 2000\, turning a lifelong dream into reality. Gabriela discovered her passion for babies and childcare at an early age while growing up in a small village in the Czech Republic. She received her degree in Pediatric Nursing and worked in the Pediatric ER before accepting a position in the United States as an Au-Pair. After arriving here she quickly realized that women lacked the village and family aspect of pregnancy and motherhood support. The idea for the Motherhood Center grew out of Gabriela’s desire to provide women a resource they can trust. A place where they can access current information\, instructional care\, and professionals that will cater to their individual situation and needs throughout the adjustment for pregnancy and motherhood. “The Motherhood Center is my way of offering these amazing women not only my expertise\, but all the best Houston has to offer the mothers\, babies\, and the families.” Today Gabriela touches the lives of thousands of infants\, parents and families through the Motherhood Center in Houston\, and virtually all over the country. \nGabriela is recognized as an expert in the field of pregnancy and early-stage child development and has delivered keynote addresses for local and national conferences and women’s organizations. She has intimate knowledge of the newborn and childcare care industry as well as massage\, yoga\, and pregnancy education. She holds committee and board positions on several non-profit organizations around the Houston area\, focused on helping women and babies. The simple pleasures in life bring her the most happiness. In her free time she enjoys golfing\, reading\, quality time spent with family and friends\, and traveling with her husband.
URL:https://shespacehtx.com/event/sheeducates-work-life-balance-and-integration-by-gabriela-gerhart/
LOCATION:TX
ATTACH;FMTTYPE=image/png:https://shespacehtx.com/wp-content/uploads/2021/02/SheEducates_-Gabriela-Gerhart.png
END:VEVENT
BEGIN:VEVENT
DTSTART;TZID=America/Chicago:20210420T163000
DTEND;TZID=America/Chicago:20210420T180000
DTSTAMP:20260424T034257
CREATED:20210329T201533Z
LAST-MODIFIED:20210329T201600Z
UID:10000247-1618936200-1618941600@shespacehtx.com
SUMMARY:Tuesday Talks - The Power of Storytelling by Trish Morille
DESCRIPTION:Trish\, as a master storyteller and writer will focus on how stories transform\, teach\, inspire and most of all – connect us to one another. You will pick up pointers on how to tell your story\, and how by telling the right story you will propel yourself and your business forward. \n4:30pm – Cocktails and Convos\n5:00pm – Speaker starts \nLearn more about Trish:\nTrish Morille is an award-winning writer and communications consultant with more than three decades experience in media\, public relations\, public speaking and executive leadership. After a successful career in print and broadcast journalism\, Trish formed Morille & Associates and works closely with a small client base focused largely on non-profit organizations. Trish served for 16 years as Executive Vice President of the Lester & Sue Smith Foundation\, a private family foundation which has granted over $150 million to numerous non-profit organizations. She and the late Lester Smith co-authored\, “You Gotta Dance Like No One’s Watching (Bright Sky Press) which was featured at Celebration of Reading in 2011.
URL:https://shespacehtx.com/event/tuesday-talks-the-power-of-storytelling/
LOCATION:TX
ATTACH;FMTTYPE=image/png:https://shespacehtx.com/wp-content/uploads/2021/03/TuesdayTalks_TrishMorille.png
END:VEVENT
BEGIN:VEVENT
DTSTART;TZID=America/Chicago:20210421T120000
DTEND;TZID=America/Chicago:20210421T124500
DTSTAMP:20260424T034257
CREATED:20210311T212643Z
LAST-MODIFIED:20210311T214125Z
UID:10000231-1619006400-1619009100@shespacehtx.com
SUMMARY:Yin Yoga with Lucia H.
DESCRIPTION:Are you craving a slower\, intentional\, meditative practice? Our yin classes consist of passively-held seated and supine positions held for 3-5 minutes. Yin allows you to turn inward\, tune into the physical sensations of your body\, and teaches you how to breathe through challenges and discomfort. Yin is the perfect pause in the midst of a busy day. \nPlease bring your own yoga mat. If you don’t have one\, we have sanitized mats available. \nMembers can register for this class by logging in to their account. Non-Members can register for this event by clicking the link below.
URL:https://shespacehtx.com/event/yin-yoga-with-lucia-h-5/2021-04-21/
LOCATION:TX
ATTACH;FMTTYPE=image/png:https://shespacehtx.com/wp-content/uploads/2021/02/Yin-Yoga-with-Lucia.png
END:VEVENT
BEGIN:VEVENT
DTSTART;TZID=America/Chicago:20210427T163000
DTEND;TZID=America/Chicago:20210427T180000
DTSTAMP:20260424T034257
CREATED:20210413T161534Z
LAST-MODIFIED:20210413T161534Z
UID:10000248-1619541000-1619546400@shespacehtx.com
SUMMARY:Learn from Two Experts on how to Master your Brand on Social Media by Megan Silianoff and Megan Streete
DESCRIPTION:Join Megan Silianoff of madmeg and Megan Streete of Streete Media on an interactive discussion on how to master your brand on social media.\nHear insider tips on:\n– Creating a tagline and value statement to attract the right audience\n– Crafting your brand’s story with engaging content and visual elements\n– Why video is essential to your strategy\n– Monitoring your account performance to maximize engagement and awareness \nLearn more about Megan Silianoff:\nMegan Silianoff is the owner and founder of MadMeg\, a Houston-based creative services firm specializing in social media management\, public relations\, web design\, and branding. Madmeg’s clients range from nationally recognized brands like True Foods Kitchen and Ballard Designs to iconic Houston businesses like Highland Village and Evelyn’s Park. Additional career highlights for Megan include publishing two critically acclaimed books\, being a founding member in the tech start-up PopUp Shops\, and speaking at national blogging conferences such Alt Summit. \nLearn more about Megan Streete:\nMegan Hundahl Streete is an Emmy award-winning producer and content marketer with extensive experience working in the national media. Megan utilizes her journalism background to assist clients in brand building\, strategic messaging\, and developing unique content for digital platforms. She trains influencers\, executives\, and brands to tell their story effectively to build brand awareness and drive engagement.
URL:https://shespacehtx.com/event/learn-from-two-experts-on-how-to-master-your-brand-on-social-media-by-megan-silianoff-and-megan-streete/
LOCATION:TX
ATTACH;FMTTYPE=image/png:https://shespacehtx.com/wp-content/uploads/2021/04/TuesdayTalks_Megan-and-Megan.png
END:VEVENT
BEGIN:VEVENT
DTSTART;TZID=America/Chicago:20210428T120000
DTEND;TZID=America/Chicago:20210428T124500
DTSTAMP:20260424T034257
CREATED:20210311T212817Z
LAST-MODIFIED:20210311T213919Z
UID:10000238-1619611200-1619613900@shespacehtx.com
SUMMARY:Flow Yoga with Lucia H.
DESCRIPTION:Get out of your head and into your body by consciously connecting breath and movement. These classes are meant to dynamically lead you through a series of postures to build strength and flexibility while promoting a sense of ease and calm for body\, mind\, and spirit. \nPlease bring your own yoga mat. If you don’t have one\, we have sanitized mats available. \nMembers can register for this class by logging in to their account. Non-Members can register for this event by clicking the link below.
URL:https://shespacehtx.com/event/flow-yoga-with-lucia-h-6/2021-04-28/
LOCATION:TX
ATTACH;FMTTYPE=image/png:https://shespacehtx.com/wp-content/uploads/2021/02/Flow-Yoga-with-Lucia.png
END:VEVENT
END:VCALENDAR