BEGIN:VCALENDAR
VERSION:2.0
PRODID:-//SheSpace HTX - ECPv6.15.20//NONSGML v1.0//EN
CALSCALE:GREGORIAN
METHOD:PUBLISH
X-WR-CALNAME:SheSpace HTX
X-ORIGINAL-URL:https://shespacehtx.com
X-WR-CALDESC:Events for SheSpace HTX
REFRESH-INTERVAL;VALUE=DURATION:PT1H
X-Robots-Tag:noindex
X-PUBLISHED-TTL:PT1H
BEGIN:VTIMEZONE
TZID:America/Chicago
BEGIN:DAYLIGHT
TZOFFSETFROM:-0600
TZOFFSETTO:-0500
TZNAME:CDT
DTSTART:20200308T080000
END:DAYLIGHT
BEGIN:STANDARD
TZOFFSETFROM:-0500
TZOFFSETTO:-0600
TZNAME:CST
DTSTART:20201101T070000
END:STANDARD
BEGIN:DAYLIGHT
TZOFFSETFROM:-0600
TZOFFSETTO:-0500
TZNAME:CDT
DTSTART:20210314T080000
END:DAYLIGHT
BEGIN:STANDARD
TZOFFSETFROM:-0500
TZOFFSETTO:-0600
TZNAME:CST
DTSTART:20211107T070000
END:STANDARD
BEGIN:DAYLIGHT
TZOFFSETFROM:-0600
TZOFFSETTO:-0500
TZNAME:CDT
DTSTART:20220313T080000
END:DAYLIGHT
BEGIN:STANDARD
TZOFFSETFROM:-0500
TZOFFSETTO:-0600
TZNAME:CST
DTSTART:20221106T070000
END:STANDARD
END:VTIMEZONE
BEGIN:VEVENT
DTSTART;TZID=America/Chicago:20211102T103000
DTEND;TZID=America/Chicago:20211102T120000
DTSTAMP:20260423T061426
CREATED:20211022T150312Z
LAST-MODIFIED:20211022T150312Z
UID:10000281-1635849000-1635854400@shespacehtx.com
SUMMARY:Memory Enhancement Training Program Pt. 1
DESCRIPTION:Amazing Place is offering a FREE 4-week Memory Enhancement Training Program! Space is limited! \nDiscover the best evidence-based memory enhancing techniques and habits to boost your memory and protect against memory loss. \nClasses will be held virtually\, in collaboration with SheSpace/Amazing Place \nTuesdays\, November 2\, 9\, 16\, 30\n(No class on November 23)\n10:30am – Noon
URL:https://shespacehtx.com/event/memory-enhancement-training-program-pt-1/
LOCATION:TX
ATTACH;FMTTYPE=image/png:https://shespacehtx.com/wp-content/uploads/2021/10/Improve-Your-Memory.png
END:VEVENT
BEGIN:VEVENT
DTSTART;TZID=America/Chicago:20211102T170000
DTEND;TZID=America/Chicago:20211102T181500
DTSTAMP:20260423T061426
CREATED:20211022T155702Z
LAST-MODIFIED:20211022T155702Z
UID:10000286-1635872400-1635876900@shespacehtx.com
SUMMARY:How to define your branding
DESCRIPTION:How to define your branding – Building a strong personal brand for your business \n\n\nWhat’s the feeling you want your presence to give others? Branding is the first impression\, the gut feeling\, your business will leave\, and oftentimes just within a few seconds\, of first interaction. Let’s talk about the importance of branding for entrepreneurs and HOW a well-defined brand will help you connect with your audience\, aka future clients. In this talk\, I will share with you steps towards a strong brand and how to consistently show up on social media for your business. I will be sharing some resources that can be of help. \nMore about Barbara:\nBarbara is a branding photographer\, with a mission to help female entrepreneurs show up confidently for their business. \nIf you need to up your visual presence\, on social media\, your website\, or any other digital or printed material\, you’ve come to the right place. \nBarbara’s approach is simple and relaxed\, and she will do her best to make you laugh with her quirky jokes. \nHer goal is to make you feel comfortable so that you forget you are in front of a camera and your true essence comes through in the images. \nBarbara is a Croatian expat\, currently calling Houston home with her husband and daughter. Photography is the passion that she squeezes in between her everyday hustle and family – nap time is when this busy Mama gets things done! \nBarbara Lipohar from Blip Photography\nwebsite: www.lipohar.com\nIG: @blip.photography
URL:https://shespacehtx.com/event/how-to-define-your-branding/
LOCATION:TX
ATTACH;FMTTYPE=image/png:https://shespacehtx.com/wp-content/uploads/2021/10/Branding-with-Blip-Photography.png
END:VEVENT
BEGIN:VEVENT
DTSTART;TZID=America/Chicago:20211103T103000
DTEND;TZID=America/Chicago:20211103T234500
DTSTAMP:20260423T061426
CREATED:20210806T162544Z
LAST-MODIFIED:20210806T162617Z
UID:10000267-1635935400-1635983100@shespacehtx.com
SUMMARY:Food for Thought with Jill Thompson\, PT
DESCRIPTION:Bring food products i.e. cookies\, favorite fruit\, etc.
URL:https://shespacehtx.com/event/food-for-thought-with-jill-thompson-pt/
LOCATION:TX
ATTACH;FMTTYPE=image/png:https://shespacehtx.com/wp-content/uploads/2021/08/5-1.png
END:VEVENT
BEGIN:VEVENT
DTSTART;TZID=America/Chicago:20211109T103000
DTEND;TZID=America/Chicago:20211109T120000
DTSTAMP:20260423T061426
CREATED:20211022T150740Z
LAST-MODIFIED:20211022T150740Z
UID:10000282-1636453800-1636459200@shespacehtx.com
SUMMARY:Memory Enhancement Training Program Pt. 2
DESCRIPTION:Amazing Place is offering a FREE 4-week Memory Enhancement Training Program! Space is limited! \nDiscover the best evidence-based memory enhancing techniques and habits to boost your memory and protect against memory loss. \nClasses will be held virtually\, in collaboration with SheSpace/Amazing Place \nTuesdays\, November 2\, 9\, 16\, 30\n(No class on November 23)\n10:30am – Noon
URL:https://shespacehtx.com/event/memory-enhancement-training-program-pt-2/
LOCATION:TX
ATTACH;FMTTYPE=image/png:https://shespacehtx.com/wp-content/uploads/2021/10/Improve-Your-Memory-1.png
END:VEVENT
BEGIN:VEVENT
DTSTART;TZID=America/Chicago:20211109T170000
DTEND;TZID=America/Chicago:20211109T180000
DTSTAMP:20260423T061426
CREATED:20211005T212456Z
LAST-MODIFIED:20211019T202616Z
UID:10000279-1636477200-1636480800@shespacehtx.com
SUMMARY:Newcomers Club
DESCRIPTION:  \nThis time\, we will host this event in the RBG.
URL:https://shespacehtx.com/event/newcomers-club-2/
LOCATION:TX
END:VEVENT
BEGIN:VEVENT
DTSTART;VALUE=DATE:20211112
DTEND;VALUE=DATE:20211113
DTSTAMP:20260423T061426
CREATED:20211027T212340Z
LAST-MODIFIED:20211027T212340Z
UID:10000289-1636675200-1636761599@shespacehtx.com
SUMMARY:Mini Branding Photo Session
DESCRIPTION:  \nAbout this event\n\n\nEvery brand needs visual content. LOADS of visual content. \nWhether you are launching a product\, working on a rebrand or just interested in fresh new photos for your social media\, you need content to stay present and be consistent. \nSession fee: $250 \nShe Space members: $200 \nYou will only pay for the reservation retainer at the time of booking. \nWhat You Get: \n20 minutes of session time \n10 digital images. \nOnline proof gallery for you to choose your favorite digital images.
URL:https://shespacehtx.com/event/mini-branding-photo-session/
LOCATION:TX
END:VEVENT
BEGIN:VEVENT
DTSTART;TZID=America/Chicago:20211116T103000
DTEND;TZID=America/Chicago:20211116T120000
DTSTAMP:20260423T061426
CREATED:20211022T151147Z
LAST-MODIFIED:20211022T151147Z
UID:10000283-1637058600-1637064000@shespacehtx.com
SUMMARY:Memory Enhancement Training Program Pt. 3
DESCRIPTION:Amazing Place is offering a FREE 4-week Memory Enhancement Training Program! Space is limited! \nDiscover the best evidence-based memory enhancing techniques and habits to boost your memory and protect against memory loss. \nClasses will be held virtually\, in collaboration with SheSpace/Amazing Place \nTuesdays\, November 2\, 9\, 16\, 30\n(No class on November 23)\n10:30am – Noon
URL:https://shespacehtx.com/event/memory-enhancement-training-program-pt-2-2/
LOCATION:TX
ATTACH;FMTTYPE=image/png:https://shespacehtx.com/wp-content/uploads/2021/10/Improve-Your-Memory-1.png
END:VEVENT
BEGIN:VEVENT
DTSTART;TZID=America/Chicago:20211116T170000
DTEND;TZID=America/Chicago:20211116T181500
DTSTAMP:20260423T061426
CREATED:20211022T152810Z
LAST-MODIFIED:20211115T184124Z
UID:10000285-1637082000-1637086500@shespacehtx.com
SUMMARY:Be Aware of Your Surroundings
DESCRIPTION:Be A Street Smart Woman: learn tips and tricks from a former Deputy Sheriff and SWAT team member\, Bridget Truxillo\, JD\, on how to heighten your awareness and feel more in control of your own safety.  Bridget will discuss aspects of personal safety\, situational awareness\, Houston stats and then finish with a visualization exercise. \nLaw enforcement officers who are overwhelmed and frustrated are able to leverage Bridget’s 30 years of wellness\, leadership\, law enforcement and legal training and experience for a blueprint on how to easily feel more comfort\, ease and support for increased balance and joy in life. Bridget is passionate about helping law enforcement officers discover their ability to find happiness on a daily basis\, regardless of the environment or circumstances surrounding them. Bridget is an attorney and former Deputy Sheriff (SWAT and undercover narcotics)\, and the founder and CEO of Protective Wellness. \nThis exclusive class was created by women and never shown to men.
URL:https://shespacehtx.com/event/be-aware-of-your-surroundings-2/
LOCATION:TX
ATTACH;FMTTYPE=image/png:https://shespacehtx.com/wp-content/uploads/2021/10/Be-aware-of-your-surroundings.png
END:VEVENT
BEGIN:VEVENT
DTSTART;TZID=America/Chicago:20211130T103000
DTEND;TZID=America/Chicago:20211130T120000
DTSTAMP:20260423T061426
CREATED:20211022T151552Z
LAST-MODIFIED:20211022T151621Z
UID:10000284-1638268200-1638273600@shespacehtx.com
SUMMARY:Memory Enhancement Training Program Pt. 4
DESCRIPTION:Amazing Place is offering a FREE 4-week Memory Enhancement Training Program! Space is limited! \nDiscover the best evidence-based memory enhancing techniques and habits to boost your memory and protect against memory loss. \nClasses will be held virtually\, in collaboration with SheSpace/Amazing Place \nTuesdays\, November 2\, 9\, 16\, 30\n(No class on November 23)\n10:30am – Noon
URL:https://shespacehtx.com/event/memory-enhancement-training-program-pt-4/
LOCATION:TX
ATTACH;FMTTYPE=image/png:https://shespacehtx.com/wp-content/uploads/2021/10/Improve-Your-Memory-1.png
END:VEVENT
BEGIN:VEVENT
DTSTART;TZID=America/Chicago:20211130T170000
DTEND;TZID=America/Chicago:20211130T180000
DTSTAMP:20260423T061426
CREATED:20211116T193037Z
LAST-MODIFIED:20211116T193037Z
UID:10000291-1638291600-1638295200@shespacehtx.com
SUMMARY:Developing a Profit Strategy for 2022
DESCRIPTION:What to expect:\nLearn how small shifts in how you think about goals\, time & money will drive you forward in 2022. \nLearn more about Samantha:\nSamantha Varner focuses on helping women find success and profit through business ownership.  As a profit coach and money making business creator for driven female entrepreneurs she coaches women to develop as leaders of their businesses and realize they are capable of changing their financial future.  \nSam has 14+ years in PR & Marketing\, Finance Strategy and Business Development.  After living in 3 different countries and getting re-qualified to work over and over again Sam decided to create her own business serving women business owners worldwide. 
URL:https://shespacehtx.com/event/developing-a-profit-strategy-for-2022/
LOCATION:TX
ATTACH;FMTTYPE=image/png:https://shespacehtx.com/wp-content/uploads/2021/11/Developing-a-profit-strategy-for-2022-1.png
END:VEVENT
END:VCALENDAR