BEGIN:VCALENDAR
VERSION:2.0
PRODID:-//SheSpace HTX - ECPv6.15.20//NONSGML v1.0//EN
CALSCALE:GREGORIAN
METHOD:PUBLISH
X-ORIGINAL-URL:https://shespacehtx.com
X-WR-CALDESC:Events for SheSpace HTX
REFRESH-INTERVAL;VALUE=DURATION:PT1H
X-Robots-Tag:noindex
X-PUBLISHED-TTL:PT1H
BEGIN:VTIMEZONE
TZID:America/Chicago
BEGIN:DAYLIGHT
TZOFFSETFROM:-0600
TZOFFSETTO:-0500
TZNAME:CDT
DTSTART:20220313T080000
END:DAYLIGHT
BEGIN:STANDARD
TZOFFSETFROM:-0500
TZOFFSETTO:-0600
TZNAME:CST
DTSTART:20221106T070000
END:STANDARD
BEGIN:DAYLIGHT
TZOFFSETFROM:-0600
TZOFFSETTO:-0500
TZNAME:CDT
DTSTART:20230312T080000
END:DAYLIGHT
BEGIN:STANDARD
TZOFFSETFROM:-0500
TZOFFSETTO:-0600
TZNAME:CST
DTSTART:20231105T070000
END:STANDARD
BEGIN:DAYLIGHT
TZOFFSETFROM:-0600
TZOFFSETTO:-0500
TZNAME:CDT
DTSTART:20240310T080000
END:DAYLIGHT
BEGIN:STANDARD
TZOFFSETFROM:-0500
TZOFFSETTO:-0600
TZNAME:CST
DTSTART:20241103T070000
END:STANDARD
END:VTIMEZONE
BEGIN:VEVENT
DTSTART;TZID=America/Chicago:20230404T113000
DTEND;TZID=America/Chicago:20230404T130000
DTSTAMP:20260421T005113
CREATED:20230321T185640Z
LAST-MODIFIED:20230321T185640Z
UID:10000385-1680607800-1680613200@shespacehtx.com
SUMMARY:Baby Shower & Diaper Drive
DESCRIPTION:Join us a lunch time celebration of SheSpace Mom’s to be! Bring diapers or gifts to pamper these special mama’s.
URL:https://shespacehtx.com/event/baby-shower-diaper-drive/
LOCATION:TX
ATTACH;FMTTYPE=image/png:https://shespacehtx.com/wp-content/uploads/2023/03/1-1.png
END:VEVENT
BEGIN:VEVENT
DTSTART;TZID=America/Chicago:20230411T120000
DTEND;TZID=America/Chicago:20230411T130000
DTSTAMP:20260421T005113
CREATED:20230321T175624Z
LAST-MODIFIED:20230401T155152Z
UID:10000379-1681214400-1681218000@shespacehtx.com
SUMMARY:Slay the Day - Productivity Power Hour
DESCRIPTION:Are you struggling to keep up with all your to-do’s? Learn task management tips and tricks with Digital Organizer\, Dai Smith.
URL:https://shespacehtx.com/event/slay-the-day-productivity-power-hour/
LOCATION:TX
ATTACH;FMTTYPE=image/png:https://shespacehtx.com/wp-content/uploads/2023/03/2.png
END:VEVENT
BEGIN:VEVENT
DTSTART;TZID=America/Chicago:20230411T173000
DTEND;TZID=America/Chicago:20230411T190000
DTSTAMP:20260421T005113
CREATED:20230321T180700Z
LAST-MODIFIED:20230321T180746Z
UID:10000380-1681234200-1681239600@shespacehtx.com
SUMMARY:Spend & Win: Budgeting for Real Life
DESCRIPTION:Sets achievable budget goals with business and personal finance coach Dionne Rosemond
URL:https://shespacehtx.com/event/spend-win-budgeting-for-real-life/
LOCATION:TX
ATTACH;FMTTYPE=image/png:https://shespacehtx.com/wp-content/uploads/2023/03/Budgeting-April-11.png
END:VEVENT
BEGIN:VEVENT
DTSTART;TZID=America/Chicago:20230418T173000
DTEND;TZID=America/Chicago:20230418T190000
DTSTAMP:20260421T005113
CREATED:20230321T181132Z
LAST-MODIFIED:20230401T155040Z
UID:10000381-1681839000-1681844400@shespacehtx.com
SUMMARY:Money on My Mind
DESCRIPTION:Make More Money! Move from fear to freedom with profitability coach Sam Varner
URL:https://shespacehtx.com/event/money-on-my-mind/
LOCATION:TX
ATTACH;FMTTYPE=image/png:https://shespacehtx.com/wp-content/uploads/2023/03/4.png
END:VEVENT
BEGIN:VEVENT
DTSTART;TZID=America/Chicago:20230425T173000
DTEND;TZID=America/Chicago:20230425T190000
DTSTAMP:20260421T005113
CREATED:20230323T185826Z
LAST-MODIFIED:20230401T154923Z
UID:10000386-1682443800-1682449200@shespacehtx.com
SUMMARY:Marketing 101
DESCRIPTION:Tired of blowing your budget on marketing schemes that don’t deliver? Get back to basics and learn the fundamentals for a ROI focused marketing strategies with Jennifer Bohdanovich.
URL:https://shespacehtx.com/event/marketing-101/
LOCATION:TX
ATTACH;FMTTYPE=image/png:https://shespacehtx.com/wp-content/uploads/2023/03/5.png
END:VEVENT
BEGIN:VEVENT
DTSTART;TZID=America/Chicago:20230427T173000
DTEND;TZID=America/Chicago:20230427T200000
DTSTAMP:20260421T005113
CREATED:20230413T043912Z
LAST-MODIFIED:20230413T043912Z
UID:10000388-1682616600-1682625600@shespacehtx.com
SUMMARY:Dream Big Ventures : Invest in Yourself
DESCRIPTION:Step out of your comfort zone and take the next step toward achieving your dreams! \nJoin us for an intimate and inspiring conversation with Staci LaToison\, Founder of Dream Big Ventures\, as she shares her journey into venture capital and provides valuable insights on how to move with intention\, leverage your strengths\, and achieve your goals. \nThis is an excellent opportunity to network and connect with like-minded entrepreneurs and businesswomen from Houston. During our networking hour\, you’ll have the chance to exchange ideas\, share experiences\, and build relationships. \nDon’t miss this opportunity to leave feeling inspired\, motivated\, and ready to take on the world. Join us for an unforgettable event that could be the catalyst for your next big move on your path toward achieving your dreams!
URL:https://shespacehtx.com/event/dream-big-ventures-invest-in-yourself/
LOCATION:TX
ATTACH;FMTTYPE=image/png:https://shespacehtx.com/wp-content/uploads/2023/04/SHESPACE-DREAM-BIG-VENTURES-1080x1080-1.png
END:VEVENT
END:VCALENDAR