BEGIN:VCALENDAR
VERSION:2.0
PRODID:-//SheSpace HTX - ECPv6.15.20//NONSGML v1.0//EN
CALSCALE:GREGORIAN
METHOD:PUBLISH
X-WR-CALNAME:SheSpace HTX
X-ORIGINAL-URL:https://shespacehtx.com
X-WR-CALDESC:Events for SheSpace HTX
REFRESH-INTERVAL;VALUE=DURATION:PT1H
X-Robots-Tag:noindex
X-PUBLISHED-TTL:PT1H
BEGIN:VTIMEZONE
TZID:America/Chicago
BEGIN:DAYLIGHT
TZOFFSETFROM:-0600
TZOFFSETTO:-0500
TZNAME:CDT
DTSTART:20220313T080000
END:DAYLIGHT
BEGIN:STANDARD
TZOFFSETFROM:-0500
TZOFFSETTO:-0600
TZNAME:CST
DTSTART:20221106T070000
END:STANDARD
BEGIN:DAYLIGHT
TZOFFSETFROM:-0600
TZOFFSETTO:-0500
TZNAME:CDT
DTSTART:20230312T080000
END:DAYLIGHT
BEGIN:STANDARD
TZOFFSETFROM:-0500
TZOFFSETTO:-0600
TZNAME:CST
DTSTART:20231105T070000
END:STANDARD
BEGIN:DAYLIGHT
TZOFFSETFROM:-0600
TZOFFSETTO:-0500
TZNAME:CDT
DTSTART:20240310T080000
END:DAYLIGHT
BEGIN:STANDARD
TZOFFSETFROM:-0500
TZOFFSETTO:-0600
TZNAME:CST
DTSTART:20241103T070000
END:STANDARD
END:VTIMEZONE
BEGIN:VEVENT
DTSTART;TZID=America/Chicago:20230608T173000
DTEND;TZID=America/Chicago:20230608T193000
DTSTAMP:20260423T113440
CREATED:20230521T183845Z
LAST-MODIFIED:20230521T183845Z
UID:10000392-1686245400-1686252600@shespacehtx.com
SUMMARY:Pride Movie Night
DESCRIPTION:Join SheSpace for a special showcase of the 1990 documentary film \, ‘Paris is Burning”. Filmed in the mid-to-late 1980s\, it chronicles the ball culture of New York City and the diverse\, gay\, and transgender communities involved in it. Critics consider the film to be an invaluable documentary of LGBT culture\, and a thoughtful exploration of race\, class\, gender\, and sexuality in America. \nIn 2016\, the film was selected for preservation in the United States National Film Registry by the Library of Congress for its cultural and historical significance. The film is directed by female filmmaker Jennie Livingston\, who continues her activism through film today.
URL:https://shespacehtx.com/event/pride-movie-night/
LOCATION:TX
ATTACH;FMTTYPE=image/png:https://shespacehtx.com/wp-content/uploads/2023/05/June-Events.png
END:VEVENT
BEGIN:VEVENT
DTSTART;TZID=America/Chicago:20230620T173000
DTEND;TZID=America/Chicago:20230620T193000
DTSTAMP:20260423T113440
CREATED:20230521T185726Z
LAST-MODIFIED:20230521T185726Z
UID:10000393-1687282200-1687289400@shespacehtx.com
SUMMARY:Juneteenth Jubilee
DESCRIPTION:Join SheSpace for our Juneteenth Jubilee to honor our newest holiday and celebrate the resilience\, triumphs\, and contributions of enslaved African Americans. Learn how this Texas historical event (June 19\, 1865) became a new Federal holiday. Listen to presentations from Houston Freedman’s Town Conservancy and Project Row Houses. \n*YOUTH FRIENDLY Ages 12+
URL:https://shespacehtx.com/event/juneteenth-jubilee/
LOCATION:TX
ATTACH;FMTTYPE=image/png:https://shespacehtx.com/wp-content/uploads/2023/05/June-Events-1.png
END:VEVENT
BEGIN:VEVENT
DTSTART;TZID=America/Chicago:20230627T133000
DTEND;TZID=America/Chicago:20230627T143000
DTSTAMP:20260423T113440
CREATED:20230521T204415Z
LAST-MODIFIED:20230531T183939Z
UID:10000394-1687872600-1687876200@shespacehtx.com
SUMMARY:Travelista: Remote Work Adventures
DESCRIPTION:Join SheSpace member Mollie Honnas to learn the secrets of balancing work and travel effortlessly. Discover the magic of creating your own flexible schedule\, to explore hidden gems\, savor local cuisine and embrace diverse cultures. \nLet Mollie guide you through finding the best remote work destinations around the globe.
URL:https://shespacehtx.com/event/travelista-remote-work-adventures/
LOCATION:TX
ATTACH;FMTTYPE=image/png:https://shespacehtx.com/wp-content/uploads/2023/05/June-Events-3.png
END:VEVENT
END:VCALENDAR