BEGIN:VCALENDAR
VERSION:2.0
PRODID:-//SheSpace HTX - ECPv6.15.20//NONSGML v1.0//EN
CALSCALE:GREGORIAN
METHOD:PUBLISH
X-ORIGINAL-URL:https://shespacehtx.com
X-WR-CALDESC:Events for SheSpace HTX
REFRESH-INTERVAL;VALUE=DURATION:PT1H
X-Robots-Tag:noindex
X-PUBLISHED-TTL:PT1H
BEGIN:VTIMEZONE
TZID:America/Chicago
BEGIN:DAYLIGHT
TZOFFSETFROM:-0600
TZOFFSETTO:-0500
TZNAME:CDT
DTSTART:20230312T080000
END:DAYLIGHT
BEGIN:STANDARD
TZOFFSETFROM:-0500
TZOFFSETTO:-0600
TZNAME:CST
DTSTART:20231105T070000
END:STANDARD
BEGIN:DAYLIGHT
TZOFFSETFROM:-0600
TZOFFSETTO:-0500
TZNAME:CDT
DTSTART:20240310T080000
END:DAYLIGHT
BEGIN:STANDARD
TZOFFSETFROM:-0500
TZOFFSETTO:-0600
TZNAME:CST
DTSTART:20241103T070000
END:STANDARD
BEGIN:DAYLIGHT
TZOFFSETFROM:-0600
TZOFFSETTO:-0500
TZNAME:CDT
DTSTART:20250309T080000
END:DAYLIGHT
BEGIN:STANDARD
TZOFFSETFROM:-0500
TZOFFSETTO:-0600
TZNAME:CST
DTSTART:20251102T070000
END:STANDARD
END:VTIMEZONE
BEGIN:VEVENT
DTSTART;TZID=America/Chicago:20240604T120000
DTEND;TZID=America/Chicago:20240604T130000
DTSTAMP:20260423T053738
CREATED:20240524T150732Z
LAST-MODIFIED:20240524T150732Z
UID:10000465-1717502400-1717506000@shespacehtx.com
SUMMARY:SheCares: Essential CPR & First Aid Training
DESCRIPTION:Join us at SheSpace for a CPR and First Aid class tailored for non-professionals. This session will cover essential skills such as CPR\, breathing management\, and emergency response for infants and children. Topics including handling choking\, breathing issues\, overdose\, bleeding\, and cardiac emergencies will be discussed. This class will provide an overview and practical demonstrations using manikins to ensure you are prepared for critical situations.
URL:https://shespacehtx.com/event/shecares-essential-cpr-first-aid-training/
LOCATION:SheSpace\, 2799 Katy Freeway Suite 250\, Houston\, TX\, 77007
ATTACH;FMTTYPE=image/png:https://shespacehtx.com/wp-content/uploads/2024/05/June-Events-1.png
END:VEVENT
BEGIN:VEVENT
DTSTART;TZID=America/Chicago:20240611T173000
DTEND;TZID=America/Chicago:20240611T190000
DTSTAMP:20260423T053738
CREATED:20240530T204451Z
LAST-MODIFIED:20240530T204451Z
UID:10000466-1718127000-1718132400@shespacehtx.com
SUMMARY:Hi-Five Mixer: A Rosé Soirée
DESCRIPTION:Raise your glass with us as we toast to new beginnings and vibrant conversations over bottles of our favorite rosé. Whether you’re a long-time member or new to SheSpace\, this is the perfect opportunity to mingle\, network\, and build lasting relationships in a relaxed and welcoming atmosphere. This special event is all about making new connections and welcoming our newest members to the SheSpace community. We’ll see you there!
URL:https://shespacehtx.com/event/hi-five-mixer-a-rose-soiree/
LOCATION:SheSpace\, 2799 Katy Freeway Suite 250\, Houston\, TX\, 77007
ATTACH;FMTTYPE=image/png:https://shespacehtx.com/wp-content/uploads/2024/05/Hi-Five-Mixer.png
END:VEVENT
BEGIN:VEVENT
DTSTART;TZID=America/Chicago:20240618T090000
DTEND;TZID=America/Chicago:20240618T113000
DTSTAMP:20260423T053738
CREATED:20240524T143749Z
LAST-MODIFIED:20240613T202423Z
UID:10000462-1718701200-1718710200@shespacehtx.com
SUMMARY:SheStrategy Summit: Secrets to Strategic Marketing Success
DESCRIPTION:Our four-day summit is designed to help you build a brilliant brand and find your ideal customers. Each day of the summit will feature workshops on topics essential for building your brand and connecting with customers. Connect with like-minded entrepreneurs\, gain valuable insights from industry experts\, and take your business to the next level. Register now and join us for an empowering and transformative experience. \nMarketing Strategy with Elizabeth Shackelford and Emily Hodges \nJoin Elizabeth Shackelford to develop a marketing strategy that goes beyond hacks and gimmicks. Gain professional insights into effective strategies and marketing campaign cycles\, ensuring your marketing efforts are strategic and impactful. \nDon’t miss this opportunity to elevate your brand and business strategy at the 2024 SheStrategy Summit. \nSummit Pricing \n\n\n$125 for Individual workshop from 9am – 11:30am includes lunch and refreshments \n$450 for complete 4-day package. Includes lunch\, refreshments and 2 coworking day passes
URL:https://shespacehtx.com/event/shestrategy-summit-day-2-marketing/
LOCATION:SheSpace\, 2799 Katy Freeway Suite 250\, Houston\, TX\, 77007
ATTACH;FMTTYPE=image/png:https://shespacehtx.com/wp-content/uploads/2024/05/3-1.png
END:VEVENT
BEGIN:VEVENT
DTSTART;TZID=America/Chicago:20240619T090000
DTEND;TZID=America/Chicago:20240619T113000
DTSTAMP:20260423T053738
CREATED:20240524T144211Z
LAST-MODIFIED:20240613T202448Z
UID:10000463-1718787600-1718796600@shespacehtx.com
SUMMARY:SheStrategy Summit: How To Network When You Hate Networking
DESCRIPTION:Our four-day summit is designed to help you build a brilliant brand and find your ideal customers. Each day of the summit will feature workshops on topics essential for building your brand and connecting with customers. Connect with like-minded entrepreneurs\, gain valuable insights from industry experts\, and take your business to the next level. Register now and join us for an empowering and transformative experience. \nAttraction Marketing: How to Network When You Hate Networking with Stephanie Tsuru and Cassandra Iku \nStephanie Tsuru and Cassandra Iku will teach you the art of attraction marketing. Learn how to build relationships\, gather grassroots market intelligence\, and attract customers. This workshop focuses on genuine networking and customer engagement. \nDon’t miss this opportunity to elevate your brand and business strategy at the 2024 SheStrategy Summit. \nSummit Pricing \n\n\n$125 for Individual workshop from 9am – 11:30am includes lunch and refreshments \n$450 for complete 4-day package. Includes lunch\, refreshments and 2 coworking day passes
URL:https://shespacehtx.com/event/shestrategy-summit-day-3-how-to-network/
LOCATION:SheSpace\, 2799 Katy Freeway Suite 250\, Houston\, TX\, 77007
ATTACH;FMTTYPE=image/png:https://shespacehtx.com/wp-content/uploads/2024/05/4-1.png
END:VEVENT
BEGIN:VEVENT
DTSTART;TZID=America/Chicago:20240620T090000
DTEND;TZID=America/Chicago:20240620T113000
DTSTAMP:20260423T053738
CREATED:20240524T144819Z
LAST-MODIFIED:20240613T202812Z
UID:10000464-1718874000-1718883000@shespacehtx.com
SUMMARY:SheStrategy Summit: Build Your Social Media Strategies
DESCRIPTION:Our four-day summit is designed to help you build a brilliant brand and find your ideal customers. Each day of the summit will feature workshops on topics essential for building your brand and connecting with customers. Connect with like-minded entrepreneurs\, gain valuable insights from industry experts\, and take your business to the next level. Register now and join us for an empowering and transformative experience. \nBuild Your Social Media Strategies \nEmily Hodges will help you transition from being a content consumer to a content creator. Discover the best social media platforms for your business and understand the finer points of building followers\, engagement\, and conversions\, featuring Lori Lee Elliott and Farrah Henley. Learn how to create compelling content that resonates with your audience. \nDon’t miss this opportunity to elevate your brand and business strategy at the 2024 SheStrategy Summit. \nSummit Pricing \n\n\n$125 for Individual workshop from 9am – 11:30am includes lunch and refreshments \n$450 for complete 4-day package. Includes lunch\, refreshments and 2 coworking day passes
URL:https://shespacehtx.com/event/shestrategy-summit-day-4-social-media/
LOCATION:SheSpace\, 2799 Katy Freeway Suite 250\, Houston\, TX\, 77007
ATTACH;FMTTYPE=image/png:https://shespacehtx.com/wp-content/uploads/2024/05/5-1.png
END:VEVENT
BEGIN:VEVENT
DTSTART;TZID=America/Chicago:20240625T120000
DTEND;TZID=America/Chicago:20240625T130000
DTSTAMP:20260423T053738
CREATED:20240530T204633Z
LAST-MODIFIED:20240621T150501Z
UID:10000467-1719316800-1719320400@shespacehtx.com
SUMMARY:ShePreps: Hurricane Readiness Class
DESCRIPTION:This informative event is designed to equip you with the knowledge and tools you need to stay safe and secure in the event of a major storm or hurricane. \nJoin us as we delve into critical preparedness strategies\, including what supplies to have on hand\, how to create an emergency plan\, and ways to safeguard your home and loved ones. \nEmpower yourself with the knowledge to face hurricane season confidently. Whether you’re new to the area or a lifelong resident\, this class will provide you with the resources and reassurance you need to protect what matters most.
URL:https://shespacehtx.com/event/shepreps-hurricane-readiness-class/
LOCATION:SheSpace\, 2799 Katy Freeway Suite 250\, Houston\, TX\, 77007
ATTACH;FMTTYPE=image/png:https://shespacehtx.com/wp-content/uploads/2024/05/June-Events-3.png
END:VEVENT
BEGIN:VEVENT
DTSTART;TZID=America/Chicago:20240627T120000
DTEND;TZID=America/Chicago:20240627T130000
DTSTAMP:20260423T053738
CREATED:20240612T203717Z
LAST-MODIFIED:20240612T203717Z
UID:10000468-1719489600-1719493200@shespacehtx.com
SUMMARY:Pride Potluck
DESCRIPTION:Celebrate Pride Month with a Pride Potluck at SheSpace! Bring your favorite dish to share as we enjoy an afternoon filled with delicious food\, unity\, diversity\, and love. Join us for a joyful celebration in our vibrant community!
URL:https://shespacehtx.com/event/pride-potluck/
LOCATION:SheSpace\, 2799 Katy Freeway Suite 250\, Houston\, TX\, 77007
ATTACH;FMTTYPE=image/png:https://shespacehtx.com/wp-content/uploads/2024/06/Pride-Potluck.png
END:VEVENT
END:VCALENDAR