BEGIN:VCALENDAR
VERSION:2.0
PRODID:-//SheSpace HTX - ECPv6.15.20//NONSGML v1.0//EN
CALSCALE:GREGORIAN
METHOD:PUBLISH
X-ORIGINAL-URL:https://shespacehtx.com
X-WR-CALDESC:Events for SheSpace HTX
REFRESH-INTERVAL;VALUE=DURATION:PT1H
X-Robots-Tag:noindex
X-PUBLISHED-TTL:PT1H
BEGIN:VTIMEZONE
TZID:America/Chicago
BEGIN:DAYLIGHT
TZOFFSETFROM:-0600
TZOFFSETTO:-0500
TZNAME:CDT
DTSTART:20240310T080000
END:DAYLIGHT
BEGIN:STANDARD
TZOFFSETFROM:-0500
TZOFFSETTO:-0600
TZNAME:CST
DTSTART:20241103T070000
END:STANDARD
BEGIN:DAYLIGHT
TZOFFSETFROM:-0600
TZOFFSETTO:-0500
TZNAME:CDT
DTSTART:20250309T080000
END:DAYLIGHT
BEGIN:STANDARD
TZOFFSETFROM:-0500
TZOFFSETTO:-0600
TZNAME:CST
DTSTART:20251102T070000
END:STANDARD
BEGIN:DAYLIGHT
TZOFFSETFROM:-0600
TZOFFSETTO:-0500
TZNAME:CDT
DTSTART:20260308T080000
END:DAYLIGHT
BEGIN:STANDARD
TZOFFSETFROM:-0500
TZOFFSETTO:-0600
TZNAME:CST
DTSTART:20261101T070000
END:STANDARD
END:VTIMEZONE
BEGIN:VEVENT
DTSTART;TZID=America/Chicago:20250610T113000
DTEND;TZID=America/Chicago:20250610T133000
DTSTAMP:20260422T071758
CREATED:20250528T204101Z
LAST-MODIFIED:20250602T174645Z
UID:10000528-1749555000-1749562200@shespacehtx.com
SUMMARY:Dopamine Dressing: Empowering Yourself through Fashion
DESCRIPTION:Are you ready to harness the power of fashion? Join us for a fashion and personal styling class designed to help you embrace your unique style with intention and confidence. \nLooking Glass Lifestyle\, the digital personal styling platform for busy moms and professionals\, invites women of all ages and backgrounds to step into their style story. Instead of chasing trends\, learn how to make fashion work for you. \nWhat to Expect: \n\nBody-Inclusive Styling: Discover how to dress and celebrate every unique curve and contour of your body with confidence.\n\n\nIntentional Shopping Tips: Learn to build a wardrobe that works hard for you at any price point\, so you can buy less\, choose well\, and wear often.\n\n\nTailoring Know-How: Unlock simple yet impactful tips to ensure every piece fits like a dream.\n\n\nStyle as Self-Expression: Explore how fashion can be your personal canvas\, whether you lean toward sleek minimalism or vibrant maximalism.\nCommunity & Connection: Engage with like-minded women and styling experts in a supportive\, fun environment.\n\nAll Attendees Will Enjoy: \n\nA delicious complimentary lunch\nAn information-packed course that will leave you inspired to elevate your style\n\nThis is your invitation to explore the full spectrum of personal style and to walk away with tools to transform your wardrobe into a source of daily confidence and joy. \nReserve your spot today and start your journey toward effortless\, authentic style!  \nWorkshop Fee: $37.50 follow link to register
URL:https://shespacehtx.com/event/dopamine-dressing-empowering-yourself-through-fashion/
LOCATION:SheSpace\, 2799 Katy Freeway Suite 250\, Houston\, TX\, 77007
ATTACH;FMTTYPE=image/png:https://shespacehtx.com/wp-content/uploads/2025/05/Dopamine-Dressing-1.png
END:VEVENT
BEGIN:VEVENT
DTSTART;TZID=America/Chicago:20250626T173000
DTEND;TZID=America/Chicago:20250626T193000
DTSTAMP:20260422T071758
CREATED:20250523T163808Z
LAST-MODIFIED:20250523T181227Z
UID:10000527-1750959000-1750966200@shespacehtx.com
SUMMARY:Juneteenth Jubilee
DESCRIPTION:SheSpace is throwing a boot-stompin’\, history-celebratin’\, Beyoncé-preppin’ party—and you’re on the guest list! 🎉\n\nJoin us on Thursday\, June 26th for our Cowboy Carter-themed Juneteenth Jubilee\, marking the 160th anniversary of Juneteenth and getting you party-ready for Queen Bey’s Cowboy Carter tour.\n\n🌵 Come dressed in your finest Western & Cowgirl regalia\n🎶 Dance to a Beyoncé-inspired country western soundtrack\n🍻 Enjoy tasty bites\, ice-cold brews\, and a hearty serving of Houston history\n\nThis is more than a party—it’s a celebration of freedom\, culture\, and Texas roots with a fierce twist.\nSave the date and dust off those boots. We’ll be sending more details your way soon!
URL:https://shespacehtx.com/event/juneteenth-jubilee-2/
LOCATION:SheSpace\, 2799 Katy Freeway Suite 250\, Houston\, TX\, 77007
ATTACH;FMTTYPE=image/png:https://shespacehtx.com/wp-content/uploads/2025/05/Juneteenth-Jubilee-e1748018173510.png
END:VEVENT
END:VCALENDAR